BEGIN:VCALENDAR
PRODID:-//DLRG e.V.//DLRG Termine iCal 1.0d//DE
VERSION:2.0
CALSCALE:GREGORIAN
METHOD:PUBLISH
X-WR-CALNAME:DLRG 
X-WR-TIMEZONE:Europe/Berlin
X-WR-CALDESC:DLRG \niCal Kalender mit Terminen
BEGIN:VEVENT
DTSTART:20260113T170000Z
DTEND:20260113T190000Z
DTSTAMP:20260425T014511Z
UID:3396483-ical.1308010.dlrg
CREATED:20260423T220000Z
DESCRIPTION:Jeden zweiten Dienstag im Monat (es sei denn es sind Ferien) findet das Jugend Einsatz Team von 18:00 Uhr - 20:00 Uhr stattBeim JET werden die Teilnehmer:innen auf die Wachsaison vorbereitet & bekommen erste Einblicke in die einzelnen Fachbereiche für den Katastrophenschutz. Mit dem erreichen des 17. Lebensjahres haben die Teilnehmer:innen die Möglichkeit bei den Übungsdiensten der einzelnen Fachbereiche (Einsatztauchen\, Strömungsrettung\, Bootswesen\, Fernerkundung) mit zu machen.Es geht primär um Spaß und andere Seiten der DLRG zu sehen\, als nur das Hallenbad.Meldet euch gerne über eure Trainer ausm Hallenbad oder über jet@haltern.dlrg.de\n\nKategorie: Jugend-Einsatz-Team (JET)\nVeranstalter: Ortsgruppe DLRG Haltern am See\nAutor: Gerrit Hasse
CATEGORIES:Jugend-Einsatz-Team (JET)
LAST-MODIFIED:20260424T220000Z
LOCATION:Geschäftsstelle DLRG Haltern am See\nHullerner Straße 52\n45721 Haltern am See
SEQUENCE:0
STATUS:CONFIRMED
SUMMARY:Dienstabend (JET)
TRANSP:TRANSPARENT
END:VEVENT
BEGIN:VEVENT
DTSTART:20260210T170000Z
DTEND:20260210T190000Z
DTSTAMP:20260425T014511Z
UID:3396484-ical.1308010.dlrg
CREATED:20260423T220000Z
DESCRIPTION:Jeden zweiten Dienstag im Monat (es sei denn es sind Ferien) findet das Jugend Einsatz Team von 18:00 Uhr - 20:00 Uhr stattBeim JET werden die Teilnehmer:innen auf die Wachsaison vorbereitet & bekommen erste Einblicke in die einzelnen Fachbereiche für den Katastrophenschutz. Mit dem erreichen des 17. Lebensjahres haben die Teilnehmer:innen die Möglichkeit bei den Übungsdiensten der einzelnen Fachbereiche (Einsatztauchen\, Strömungsrettung\, Bootswesen\, Fernerkundung) mit zu machen.Es geht primär um Spaß und andere Seiten der DLRG zu sehen\, als nur das Hallenbad.Meldet euch gerne über eure Trainer ausm Hallenbad oder über jet@haltern.dlrg.de\n\nKategorie: Jugend-Einsatz-Team (JET)\nVeranstalter: Ortsgruppe DLRG Haltern am See\nAutor: Gerrit Hasse
CATEGORIES:Jugend-Einsatz-Team (JET)
LAST-MODIFIED:20260424T220000Z
LOCATION:Geschäftsstelle DLRG Haltern am See\nHullerner Straße 52\n45721 Haltern am See
SEQUENCE:0
STATUS:CONFIRMED
SUMMARY:Dienstabend (JET)
TRANSP:TRANSPARENT
END:VEVENT
BEGIN:VEVENT
DTSTART:20260310T170000Z
DTEND:20260310T190000Z
DTSTAMP:20260425T014511Z
UID:3396485-ical.1308010.dlrg
CREATED:20260423T220000Z
DESCRIPTION:Jeden zweiten Dienstag im Monat (es sei denn es sind Ferien) findet das Jugend Einsatz Team von 18:00 Uhr - 20:00 Uhr stattBeim JET werden die Teilnehmer:innen auf die Wachsaison vorbereitet & bekommen erste Einblicke in die einzelnen Fachbereiche für den Katastrophenschutz. Mit dem erreichen des 17. Lebensjahres haben die Teilnehmer:innen die Möglichkeit bei den Übungsdiensten der einzelnen Fachbereiche (Einsatztauchen\, Strömungsrettung\, Bootswesen\, Fernerkundung) mit zu machen.Es geht primär um Spaß und andere Seiten der DLRG zu sehen\, als nur das Hallenbad.Meldet euch gerne über eure Trainer ausm Hallenbad oder über jet@haltern.dlrg.de\n\nKategorie: Jugend-Einsatz-Team (JET)\nVeranstalter: Ortsgruppe DLRG Haltern am See\nAutor: Gerrit Hasse
CATEGORIES:Jugend-Einsatz-Team (JET)
LAST-MODIFIED:20260424T220000Z
LOCATION:Geschäftsstelle DLRG Haltern am See\nHullerner Straße 52\n45721 Haltern am See
SEQUENCE:0
STATUS:CONFIRMED
SUMMARY:Dienstabend (JET)
TRANSP:TRANSPARENT
END:VEVENT
BEGIN:VEVENT
DTSTART:20260414T160000Z
DTEND:20260414T180000Z
DTSTAMP:20260425T014511Z
UID:3396486-ical.1308010.dlrg
CREATED:20260423T220000Z
DESCRIPTION:Jeden zweiten Dienstag im Monat (es sei denn es sind Ferien) findet das Jugend Einsatz Team von 18:00 Uhr - 20:00 Uhr stattBeim JET werden die Teilnehmer:innen auf die Wachsaison vorbereitet & bekommen erste Einblicke in die einzelnen Fachbereiche für den Katastrophenschutz. Mit dem erreichen des 17. Lebensjahres haben die Teilnehmer:innen die Möglichkeit bei den Übungsdiensten der einzelnen Fachbereiche (Einsatztauchen\, Strömungsrettung\, Bootswesen\, Fernerkundung) mit zu machen.Es geht primär um Spaß und andere Seiten der DLRG zu sehen\, als nur das Hallenbad.Meldet euch gerne über eure Trainer ausm Hallenbad oder über jet@haltern.dlrg.de\n\nKategorie: Jugend-Einsatz-Team (JET)\nVeranstalter: Ortsgruppe DLRG Haltern am See\nAutor: Gerrit Hasse
CATEGORIES:Jugend-Einsatz-Team (JET)
LAST-MODIFIED:20260424T220000Z
LOCATION:Geschäftsstelle DLRG Haltern am See\nHullerner Straße 52\n45721 Haltern am See
SEQUENCE:0
STATUS:CONFIRMED
SUMMARY:Dienstabend (JET)
TRANSP:TRANSPARENT
END:VEVENT
BEGIN:VEVENT
DTSTART:20260512T160000Z
DTEND:20260512T180000Z
DTSTAMP:20260425T014511Z
UID:3396487-ical.1308010.dlrg
CREATED:20260423T220000Z
DESCRIPTION:Jeden zweiten Dienstag im Monat (es sei denn es sind Ferien) findet das Jugend Einsatz Team von 18:00 Uhr - 20:00 Uhr stattBeim JET werden die Teilnehmer:innen auf die Wachsaison vorbereitet & bekommen erste Einblicke in die einzelnen Fachbereiche für den Katastrophenschutz. Mit dem erreichen des 17. Lebensjahres haben die Teilnehmer:innen die Möglichkeit bei den Übungsdiensten der einzelnen Fachbereiche (Einsatztauchen\, Strömungsrettung\, Bootswesen\, Fernerkundung) mit zu machen.Es geht primär um Spaß und andere Seiten der DLRG zu sehen\, als nur das Hallenbad.Meldet euch gerne über eure Trainer ausm Hallenbad oder über jet@haltern.dlrg.de\n\nKategorie: Jugend-Einsatz-Team (JET)\nVeranstalter: Ortsgruppe DLRG Haltern am See\nAutor: Gerrit Hasse
CATEGORIES:Jugend-Einsatz-Team (JET)
LAST-MODIFIED:20260424T220000Z
LOCATION:Geschäftsstelle DLRG Haltern am See\nHullerner Straße 52\n45721 Haltern am See
SEQUENCE:0
STATUS:CONFIRMED
SUMMARY:Dienstabend (JET)
TRANSP:TRANSPARENT
END:VEVENT
BEGIN:VEVENT
DTSTART:20260609T160000Z
DTEND:20260609T180000Z
DTSTAMP:20260425T014511Z
UID:3396488-ical.1308010.dlrg
CREATED:20260423T220000Z
DESCRIPTION:Jeden zweiten Dienstag im Monat (es sei denn es sind Ferien) findet das Jugend Einsatz Team von 18:00 Uhr - 20:00 Uhr stattBeim JET werden die Teilnehmer:innen auf die Wachsaison vorbereitet & bekommen erste Einblicke in die einzelnen Fachbereiche für den Katastrophenschutz. Mit dem erreichen des 17. Lebensjahres haben die Teilnehmer:innen die Möglichkeit bei den Übungsdiensten der einzelnen Fachbereiche (Einsatztauchen\, Strömungsrettung\, Bootswesen\, Fernerkundung) mit zu machen.Es geht primär um Spaß und andere Seiten der DLRG zu sehen\, als nur das Hallenbad.Meldet euch gerne über eure Trainer ausm Hallenbad oder über jet@haltern.dlrg.de\n\nKategorie: Jugend-Einsatz-Team (JET)\nVeranstalter: Ortsgruppe DLRG Haltern am See\nAutor: Gerrit Hasse
CATEGORIES:Jugend-Einsatz-Team (JET)
LAST-MODIFIED:20260424T220000Z
LOCATION:Geschäftsstelle DLRG Haltern am See\nHullerner Straße 52\n45721 Haltern am See
SEQUENCE:0
STATUS:CONFIRMED
SUMMARY:Dienstabend (JET)
TRANSP:TRANSPARENT
END:VEVENT
BEGIN:VEVENT
DTSTART:20260714T160000Z
DTEND:20260714T180000Z
DTSTAMP:20260425T014511Z
UID:3396489-ical.1308010.dlrg
CREATED:20260423T220000Z
DESCRIPTION:Jeden zweiten Dienstag im Monat (es sei denn es sind Ferien) findet das Jugend Einsatz Team von 18:00 Uhr - 20:00 Uhr stattBeim JET werden die Teilnehmer:innen auf die Wachsaison vorbereitet & bekommen erste Einblicke in die einzelnen Fachbereiche für den Katastrophenschutz. Mit dem erreichen des 17. Lebensjahres haben die Teilnehmer:innen die Möglichkeit bei den Übungsdiensten der einzelnen Fachbereiche (Einsatztauchen\, Strömungsrettung\, Bootswesen\, Fernerkundung) mit zu machen.Es geht primär um Spaß und andere Seiten der DLRG zu sehen\, als nur das Hallenbad.Meldet euch gerne über eure Trainer ausm Hallenbad oder über jet@haltern.dlrg.de\n\nKategorie: Jugend-Einsatz-Team (JET)\nVeranstalter: Ortsgruppe DLRG Haltern am See\nAutor: Gerrit Hasse
CATEGORIES:Jugend-Einsatz-Team (JET)
LAST-MODIFIED:20260424T220000Z
LOCATION:Geschäftsstelle DLRG Haltern am See\nHullerner Straße 52\n45721 Haltern am See
SEQUENCE:0
STATUS:CONFIRMED
SUMMARY:Dienstabend (JET)
TRANSP:TRANSPARENT
END:VEVENT
BEGIN:VEVENT
DTSTART:20260811T160000Z
DTEND:20260811T180000Z
DTSTAMP:20260425T014511Z
UID:3396490-ical.1308010.dlrg
CREATED:20260423T220000Z
DESCRIPTION:Jeden zweiten Dienstag im Monat (es sei denn es sind Ferien) findet das Jugend Einsatz Team von 18:00 Uhr - 20:00 Uhr stattBeim JET werden die Teilnehmer:innen auf die Wachsaison vorbereitet & bekommen erste Einblicke in die einzelnen Fachbereiche für den Katastrophenschutz. Mit dem erreichen des 17. Lebensjahres haben die Teilnehmer:innen die Möglichkeit bei den Übungsdiensten der einzelnen Fachbereiche (Einsatztauchen\, Strömungsrettung\, Bootswesen\, Fernerkundung) mit zu machen.Es geht primär um Spaß und andere Seiten der DLRG zu sehen\, als nur das Hallenbad.Meldet euch gerne über eure Trainer ausm Hallenbad oder über jet@haltern.dlrg.de\n\nKategorie: Jugend-Einsatz-Team (JET)\nVeranstalter: Ortsgruppe DLRG Haltern am See\nAutor: Gerrit Hasse
CATEGORIES:Jugend-Einsatz-Team (JET)
LAST-MODIFIED:20260424T220000Z
LOCATION:Geschäftsstelle DLRG Haltern am See\nHullerner Straße 52\n45721 Haltern am See
SEQUENCE:0
STATUS:CONFIRMED
SUMMARY:Dienstabend (JET)
TRANSP:TRANSPARENT
END:VEVENT
BEGIN:VEVENT
DTSTART:20260908T160000Z
DTEND:20260908T180000Z
DTSTAMP:20260425T014511Z
UID:3396491-ical.1308010.dlrg
CREATED:20260423T220000Z
DESCRIPTION:Jeden zweiten Dienstag im Monat (es sei denn es sind Ferien) findet das Jugend Einsatz Team von 18:00 Uhr - 20:00 Uhr stattBeim JET werden die Teilnehmer:innen auf die Wachsaison vorbereitet & bekommen erste Einblicke in die einzelnen Fachbereiche für den Katastrophenschutz. Mit dem erreichen des 17. Lebensjahres haben die Teilnehmer:innen die Möglichkeit bei den Übungsdiensten der einzelnen Fachbereiche (Einsatztauchen\, Strömungsrettung\, Bootswesen\, Fernerkundung) mit zu machen.Es geht primär um Spaß und andere Seiten der DLRG zu sehen\, als nur das Hallenbad.Meldet euch gerne über eure Trainer ausm Hallenbad oder über jet@haltern.dlrg.de\n\nKategorie: Jugend-Einsatz-Team (JET)\nVeranstalter: Ortsgruppe DLRG Haltern am See\nAutor: Gerrit Hasse
CATEGORIES:Jugend-Einsatz-Team (JET)
LAST-MODIFIED:20260424T220000Z
LOCATION:Geschäftsstelle DLRG Haltern am See\nHullerner Straße 52\n45721 Haltern am See
SEQUENCE:0
STATUS:CONFIRMED
SUMMARY:Dienstabend (JET)
TRANSP:TRANSPARENT
END:VEVENT
BEGIN:VEVENT
DTSTART:20261013T160000Z
DTEND:20261013T180000Z
DTSTAMP:20260425T014511Z
UID:3396492-ical.1308010.dlrg
CREATED:20260423T220000Z
DESCRIPTION:Jeden zweiten Dienstag im Monat (es sei denn es sind Ferien) findet das Jugend Einsatz Team von 18:00 Uhr - 20:00 Uhr stattBeim JET werden die Teilnehmer:innen auf die Wachsaison vorbereitet & bekommen erste Einblicke in die einzelnen Fachbereiche für den Katastrophenschutz. Mit dem erreichen des 17. Lebensjahres haben die Teilnehmer:innen die Möglichkeit bei den Übungsdiensten der einzelnen Fachbereiche (Einsatztauchen\, Strömungsrettung\, Bootswesen\, Fernerkundung) mit zu machen.Es geht primär um Spaß und andere Seiten der DLRG zu sehen\, als nur das Hallenbad.Meldet euch gerne über eure Trainer ausm Hallenbad oder über jet@haltern.dlrg.de\n\nKategorie: Jugend-Einsatz-Team (JET)\nVeranstalter: Ortsgruppe DLRG Haltern am See\nAutor: Gerrit Hasse
CATEGORIES:Jugend-Einsatz-Team (JET)
LAST-MODIFIED:20260424T220000Z
LOCATION:Geschäftsstelle DLRG Haltern am See\nHullerner Straße 52\n45721 Haltern am See
SEQUENCE:0
STATUS:CONFIRMED
SUMMARY:Dienstabend (JET)
TRANSP:TRANSPARENT
END:VEVENT
BEGIN:VEVENT
DTSTART:20261110T170000Z
DTEND:20261110T190000Z
DTSTAMP:20260425T014511Z
UID:3396493-ical.1308010.dlrg
CREATED:20260423T220000Z
DESCRIPTION:Jeden zweiten Dienstag im Monat (es sei denn es sind Ferien) findet das Jugend Einsatz Team von 18:00 Uhr - 20:00 Uhr stattBeim JET werden die Teilnehmer:innen auf die Wachsaison vorbereitet & bekommen erste Einblicke in die einzelnen Fachbereiche für den Katastrophenschutz. Mit dem erreichen des 17. Lebensjahres haben die Teilnehmer:innen die Möglichkeit bei den Übungsdiensten der einzelnen Fachbereiche (Einsatztauchen\, Strömungsrettung\, Bootswesen\, Fernerkundung) mit zu machen.Es geht primär um Spaß und andere Seiten der DLRG zu sehen\, als nur das Hallenbad.Meldet euch gerne über eure Trainer ausm Hallenbad oder über jet@haltern.dlrg.de\n\nKategorie: Jugend-Einsatz-Team (JET)\nVeranstalter: Ortsgruppe DLRG Haltern am See\nAutor: Gerrit Hasse
CATEGORIES:Jugend-Einsatz-Team (JET)
LAST-MODIFIED:20260424T220000Z
LOCATION:Geschäftsstelle DLRG Haltern am See\nHullerner Straße 52\n45721 Haltern am See
SEQUENCE:0
STATUS:CONFIRMED
SUMMARY:Dienstabend (JET)
TRANSP:TRANSPARENT
END:VEVENT
BEGIN:VEVENT
DTSTART:20261208T170000Z
DTEND:20261208T190000Z
DTSTAMP:20260425T014511Z
UID:3396494-ical.1308010.dlrg
CREATED:20260423T220000Z
DESCRIPTION:Jeden zweiten Dienstag im Monat (es sei denn es sind Ferien) findet das Jugend Einsatz Team von 18:00 Uhr - 20:00 Uhr stattBeim JET werden die Teilnehmer:innen auf die Wachsaison vorbereitet & bekommen erste Einblicke in die einzelnen Fachbereiche für den Katastrophenschutz. Mit dem erreichen des 17. Lebensjahres haben die Teilnehmer:innen die Möglichkeit bei den Übungsdiensten der einzelnen Fachbereiche (Einsatztauchen\, Strömungsrettung\, Bootswesen\, Fernerkundung) mit zu machen.Es geht primär um Spaß und andere Seiten der DLRG zu sehen\, als nur das Hallenbad.Meldet euch gerne über eure Trainer ausm Hallenbad oder über jet@haltern.dlrg.de\n\nKategorie: Jugend-Einsatz-Team (JET)\nVeranstalter: Ortsgruppe DLRG Haltern am See\nAutor: Gerrit Hasse
CATEGORIES:Jugend-Einsatz-Team (JET)
LAST-MODIFIED:20260424T220000Z
LOCATION:Geschäftsstelle DLRG Haltern am See\nHullerner Straße 52\n45721 Haltern am See
SEQUENCE:0
STATUS:CONFIRMED
SUMMARY:Dienstabend (JET)
TRANSP:TRANSPARENT
END:VEVENT
END:VCALENDAR
